BEGIN:VCALENDAR
VERSION:2.0
PRODID:-//wmmi.org//NONSGML kigkonsult.se iCalcreator 2.30.10//
CALSCALE:GREGORIAN
METHOD:PUBLISH
UID:df3ac32c-2e3f-481e-86ce-61cb84d3d613
X-WR-CALDESC:Join us each month for our Speakers Bureau Lecture Series feat
 uring new topics and discussions.  Free for museum members\, only $5 for g
 eneral admission
X-WR-RELCALID:18d1bd12bdf897b4411ec228b0c50669
X-WR-TIMEZONE:America/Denver
BEGIN:VTIMEZONE
TZID:America/Denver
BEGIN:STANDARD
TZNAME:MST
DTSTART:20221106T020000
TZOFFSETFROM:-0600
TZOFFSETTO:-0700
RDATE:20231105T020000
END:STANDARD
BEGIN:DAYLIGHT
TZNAME:MDT
DTSTART:20230312T020000
TZOFFSETFROM:-0700
TZOFFSETTO:-0600
RDATE:20240310T020000
END:DAYLIGHT
END:VTIMEZONE
BEGIN:VEVENT
UID:af06f723-2752-4d9a-929d-4cc7e188229e
DTSTAMP:20260421T124338Z
DESCRIPTION:Join us each month for our Speakers Bureau Lecture Series featu
 ring new topics and discussions.  Free for museum members\, only $5 for ge
 neral admission
DTSTART;TZID=America/Denver:20230314T160000
DTEND;TZID=America/Denver:20230314T170000
LOCATION:225 North Gate Blvd\, colorado springs\, CO 80921 US
SUMMARY:Monthly Lecture Series: Donna Guthrie Troubadours on Horseback
END:VEVENT
END:VCALENDAR
