BEGIN:VCALENDAR
VERSION:2.0
PRODID:-//wmmi.org//NONSGML kigkonsult.se iCalcreator 2.30.10//
CALSCALE:GREGORIAN
METHOD:PUBLISH
UID:72a8c97b-2364-49cd-beea-eb89ade22f6a
X-WR-CALDESC:Join us for Homeschool Days--a new topic each month.  Call 719
 -488-0880 or Register here!
X-WR-RELCALID:06c3f51d5ac2bae1fe396a129ae01a97
X-WR-TIMEZONE:America/Denver
BEGIN:VTIMEZONE
TZID:America/Denver
BEGIN:STANDARD
TZNAME:MST
DTSTART:20221106T020000
TZOFFSETFROM:-0600
TZOFFSETTO:-0700
RDATE:20231105T020000
END:STANDARD
BEGIN:DAYLIGHT
TZNAME:MDT
DTSTART:20220313T020000
TZOFFSETFROM:-0700
TZOFFSETTO:-0600
RDATE:20230312T020000
RDATE:20240310T020000
END:DAYLIGHT
END:VTIMEZONE
BEGIN:VEVENT
UID:4c8cc215-9d7e-4f72-9bb3-9a771296680a
DTSTAMP:20260421T122310Z
DESCRIPTION:Join us for Homeschool Days--a new topic each month.  Call 719-
 488-0880 or Register here!
DTSTART;TZID=America/Denver:20230308T123000
DTEND;TZID=America/Denver:20230308T153000
LOCATION:225 North Gate Blvd\, colorado springs\, CO 80921 US
SUMMARY:Homeschool Days - March
END:VEVENT
END:VCALENDAR
