BEGIN:VCALENDAR
VERSION:2.0
PRODID:-//wmmi.org//NONSGML kigkonsult.se iCalcreator 2.30.10//
CALSCALE:GREGORIAN
METHOD:PUBLISH
UID:5db47089-7f07-4d82-a2ef-c7cec92eb025
X-WR-CALDESC:
X-WR-RELCALID:dbc91b610cd85418afd82250d56c922c
X-WR-TIMEZONE:America/Denver
BEGIN:VTIMEZONE
TZID:America/Denver
BEGIN:STANDARD
TZNAME:MST
DTSTART:20221106T020000
TZOFFSETFROM:-0600
TZOFFSETTO:-0700
RDATE:20231105T020000
END:STANDARD
BEGIN:DAYLIGHT
TZNAME:MDT
DTSTART:20220313T020000
TZOFFSETFROM:-0700
TZOFFSETTO:-0600
RDATE:20230312T020000
RDATE:20240310T020000
END:DAYLIGHT
END:VTIMEZONE
BEGIN:VEVENT
UID:de1a5342-3c58-4912-848d-52fdd1c2b29d
DTSTAMP:20260421T140505Z
DESCRIPTION:
DTSTART;TZID=America/Denver:20230225T090000
DTEND;TZID=America/Denver:20230225T160000
LOCATION:225 North Gate Blvd\, colorado springs\, CO 80921 US
SUMMARY:Final Day of 'Left Behind in the Mines'
END:VEVENT
END:VCALENDAR
