BEGIN:VCALENDAR
VERSION:2.0
PRODID:-//wmmi.org//NONSGML kigkonsult.se iCalcreator 2.30.10//
CALSCALE:GREGORIAN
METHOD:PUBLISH
UID:d10e5027-1200-406b-8e90-e35357bd6892
X-WR-CALDESC:Each Month\, the Western Museum of Mining and Industry\, in Co
 lorado Springs\, presents fascination speakers about varying topics.  Admi
 ssion is only $5.00 (free for museum members)  Sign up here\, or call for 
 more information.
X-WR-RELCALID:47a427bf4fdf245a0dadc05ed03d0d27
X-WR-TIMEZONE:America/Denver
BEGIN:VTIMEZONE
TZID:America/Denver
BEGIN:STANDARD
TZNAME:MST
DTSTART:20221106T020000
TZOFFSETFROM:-0600
TZOFFSETTO:-0700
RDATE:20231105T020000
END:STANDARD
BEGIN:DAYLIGHT
TZNAME:MDT
DTSTART:20220313T020000
TZOFFSETFROM:-0700
TZOFFSETTO:-0600
RDATE:20230312T020000
RDATE:20240310T020000
END:DAYLIGHT
END:VTIMEZONE
BEGIN:VEVENT
UID:d6ace511-22aa-46a4-87e4-3ece658620ff
DTSTAMP:20260421T135234Z
DESCRIPTION:Each Month\, the Western Museum of Mining and Industry\, in Col
 orado Springs\, presents fascination speakers about varying topics.  Admis
 sion is only $5.00 (free for museum members)  Sign up here\, or call for m
 ore information.
DTSTART;TZID=America/Denver:20230214T160000
DTEND;TZID=America/Denver:20230214T170000
LOCATION:225 North Gate Blvd\, colorado springs\, CO 80921 US
SUMMARY:Speakers Bureau Lecture Series
END:VEVENT
END:VCALENDAR
