BEGIN:VCALENDAR
VERSION:2.0
PRODID:-//wmmi.org//NONSGML kigkonsult.se iCalcreator 2.30.10//
CALSCALE:GREGORIAN
METHOD:PUBLISH
UID:c2ee4f3c-052c-4194-b339-a0f7000a7e18
X-WR-CALDESC:
X-WR-RELCALID:7928e76e6035756ab35a728369bae89a
X-WR-TIMEZONE:America/Denver
BEGIN:VTIMEZONE
TZID:America/Denver
BEGIN:STANDARD
TZNAME:MST
DTSTART:20221106T020000
TZOFFSETFROM:-0600
TZOFFSETTO:-0700
RDATE:20231105T020000
END:STANDARD
BEGIN:DAYLIGHT
TZNAME:MDT
DTSTART:20220313T020000
TZOFFSETFROM:-0700
TZOFFSETTO:-0600
RDATE:20230312T020000
RDATE:20240310T020000
END:DAYLIGHT
END:VTIMEZONE
BEGIN:VEVENT
UID:0250d0c1-7d02-4ddc-b182-d52fd78c86e5
DTSTAMP:20260421T135147Z
DESCRIPTION:
DTSTART;TZID=America/Denver:20230213T093000
DTEND;TZID=America/Denver:20230213T103000
LOCATION:225 North Gate Blvd\, colorado springs\, CO 80921 US
SUMMARY:PPLD Storytime and Bookmobile
END:VEVENT
END:VCALENDAR
