BEGIN:VCALENDAR
VERSION:2.0
PRODID:-//wmmi.org//NONSGML kigkonsult.se iCalcreator 2.30.10//
CALSCALE:GREGORIAN
METHOD:PUBLISH
UID:6f71e80d-cb85-426a-8502-bbd37301e266
X-WR-CALDESC:Second Wednesday of Each Month\, take part in our Homeschool D
 ays program.  Register Here
X-WR-RELCALID:acfd8c6e272af657d9331061c9c69855
X-WR-TIMEZONE:America/Denver
BEGIN:VTIMEZONE
TZID:America/Denver
BEGIN:STANDARD
TZNAME:MST
DTSTART:20221106T020000
TZOFFSETFROM:-0600
TZOFFSETTO:-0700
RDATE:20231105T020000
END:STANDARD
BEGIN:DAYLIGHT
TZNAME:MDT
DTSTART:20220313T020000
TZOFFSETFROM:-0700
TZOFFSETTO:-0600
RDATE:20230312T020000
RDATE:20240310T020000
END:DAYLIGHT
END:VTIMEZONE
BEGIN:VEVENT
UID:6f34ae75-3ced-4f15-8142-260166f666d9
DTSTAMP:20260421T135055Z
DESCRIPTION:Second Wednesday of Each Month\, take part in our Homeschool Da
 ys program.  Register Here
DTSTART;TZID=America/Denver:20230208T123000
DTEND;TZID=America/Denver:20230208T153000
LOCATION:225 North Gate Blvd\, colorado springs\, CO 80921 US
SUMMARY:Homeschool Days
END:VEVENT
END:VCALENDAR
