BEGIN:VCALENDAR
VERSION:2.0
PRODID:-//wmmi.org//NONSGML kigkonsult.se iCalcreator 2.30.10//
CALSCALE:GREGORIAN
METHOD:PUBLISH
UID:84f64712-4c52-4631-8742-024587be796f
X-WR-CALDESC:
X-WR-RELCALID:844a4034f30be114f8310fbe0dd0d36e
X-WR-TIMEZONE:America/Chicago
BEGIN:VTIMEZONE
TZID:America/Chicago
BEGIN:STANDARD
TZNAME:CST
DTSTART:20221106T020000
TZOFFSETFROM:-0500
TZOFFSETTO:-0600
RDATE:20231105T020000
END:STANDARD
BEGIN:DAYLIGHT
TZNAME:CDT
DTSTART:20220313T020000
TZOFFSETFROM:-0600
TZOFFSETTO:-0500
RDATE:20230312T020000
RDATE:20240310T020000
END:DAYLIGHT
END:VTIMEZONE
BEGIN:VEVENT
UID:801673d7-7dcd-42c0-9048-3ca9a5d912c8
DTSTAMP:20260421T140632Z
DESCRIPTION:
DTSTART;TZID=America/Chicago:20230206T093000
DTEND;TZID=America/Chicago:20230206T103000
LOCATION:225 North Gate Blvd\, colorado springs\, CO 80921 US
SUMMARY:PPLD Storytime and Bookmobile
END:VEVENT
END:VCALENDAR
