BEGIN:VCALENDAR
VERSION:2.0
PRODID:-//wmmi.org//NONSGML kigkonsult.se iCalcreator 2.30.10//
CALSCALE:GREGORIAN
METHOD:PUBLISH
UID:0da26939-5e80-4874-9b36-0a7753d67127
X-WR-CALDESC:
X-WR-RELCALID:16be82ce6ae8605ed41d37b11b487287
X-WR-TIMEZONE:America/Chicago
BEGIN:VTIMEZONE
TZID:America/Chicago
BEGIN:STANDARD
TZNAME:CST
DTSTART:20221106T020000
TZOFFSETFROM:-0500
TZOFFSETTO:-0600
RDATE:20231105T020000
END:STANDARD
BEGIN:DAYLIGHT
TZNAME:CDT
DTSTART:20220313T020000
TZOFFSETFROM:-0600
TZOFFSETTO:-0500
RDATE:20230312T020000
RDATE:20240310T020000
END:DAYLIGHT
END:VTIMEZONE
BEGIN:VEVENT
UID:03fd848f-1dcb-4a5c-a112-b692cb3d0e25
DTSTAMP:20260421T152229Z
DESCRIPTION:
DTSTART;TZID=America/Chicago:20230121T000000
DTEND;TZID=America/Chicago:20230122T005900
LOCATION:
SUMMARY:Family Day Geology
END:VEVENT
END:VCALENDAR
