BEGIN:VCALENDAR
VERSION:2.0
PRODID:-//wmmi.org//NONSGML kigkonsult.se iCalcreator 2.30.10//
CALSCALE:GREGORIAN
METHOD:PUBLISH
UID:809c23f6-08d7-4b0e-ad0b-ddaf41c16bec
X-WR-CALDESC:
X-WR-RELCALID:6acb7e0b96a2adb6a75f3adfccc732d7
X-WR-TIMEZONE:America/Chicago
BEGIN:VTIMEZONE
TZID:America/Chicago
BEGIN:STANDARD
TZNAME:CST
DTSTART:20221106T020000
TZOFFSETFROM:-0500
TZOFFSETTO:-0600
RDATE:20231105T020000
END:STANDARD
BEGIN:DAYLIGHT
TZNAME:CDT
DTSTART:20220313T020000
TZOFFSETFROM:-0600
TZOFFSETTO:-0500
RDATE:20230312T020000
RDATE:20240310T020000
END:DAYLIGHT
END:VTIMEZONE
BEGIN:VEVENT
UID:67fa1192-9c3f-43ee-86c1-a3168c68f426
DTSTAMP:20260421T151616Z
DESCRIPTION:
DTSTART;TZID=America/Chicago:20230111T000000
DTEND;TZID=America/Chicago:20230111T005900
LOCATION:
SUMMARY:Homeschool Days
END:VEVENT
END:VCALENDAR
