BEGIN:VCALENDAR
VERSION:2.0
PRODID:-//wmmi.org//NONSGML kigkonsult.se iCalcreator 2.30.10//
CALSCALE:GREGORIAN
METHOD:PUBLISH
UID:af288778-edc4-4ad8-9046-bc6298f203c6
X-WR-CALDESC:
X-WR-RELCALID:cd818908bb1bc2f7fa36acab8882ec22
X-WR-TIMEZONE:America/Chicago
BEGIN:VTIMEZONE
TZID:America/Chicago
BEGIN:STANDARD
TZNAME:CST
DTSTART:20221106T020000
TZOFFSETFROM:-0500
TZOFFSETTO:-0600
RDATE:20231105T020000
END:STANDARD
BEGIN:DAYLIGHT
TZNAME:CDT
DTSTART:20220313T020000
TZOFFSETFROM:-0600
TZOFFSETTO:-0500
RDATE:20230312T020000
RDATE:20240310T020000
END:DAYLIGHT
END:VTIMEZONE
BEGIN:VEVENT
UID:b61f1d9c-42bd-417e-a145-21d505e00c46
DTSTAMP:20260421T151749Z
DESCRIPTION:
DTSTART;TZID=America/Chicago:20230103T000000
DTEND;TZID=America/Chicago:20230103T005900
LOCATION:
SUMMARY:Winter Break STEaM CAMP #3
END:VEVENT
END:VCALENDAR
