BEGIN:VCALENDAR
VERSION:2.0
PRODID:-//wmmi.org//NONSGML kigkonsult.se iCalcreator 2.30.10//
CALSCALE:GREGORIAN
METHOD:PUBLISH
UID:7f369c4e-42a4-4943-b446-490e90550f1f
X-WR-CALDESC:
X-WR-RELCALID:ca8ffdcf484ab1c07c0b6685e202fe38
X-WR-TIMEZONE:America/Chicago
BEGIN:VTIMEZONE
TZID:America/Chicago
BEGIN:STANDARD
TZNAME:CST
DTSTART:20221106T020000
TZOFFSETFROM:-0500
TZOFFSETTO:-0600
RDATE:20231105T020000
END:STANDARD
BEGIN:DAYLIGHT
TZNAME:CDT
DTSTART:20220313T020000
TZOFFSETFROM:-0600
TZOFFSETTO:-0500
RDATE:20230312T020000
RDATE:20240310T020000
END:DAYLIGHT
END:VTIMEZONE
BEGIN:VEVENT
UID:21fbeb48-aa02-4307-b0df-52daa2aa93a9
DTSTAMP:20260421T165034Z
DESCRIPTION:
DTSTART;TZID=America/Chicago:20221231T000000
DTEND;TZID=America/Chicago:20221231T235900
LOCATION:
SUMMARY:New Year's Eve (close 2pm)
END:VEVENT
END:VCALENDAR
