BEGIN:VCALENDAR
VERSION:2.0
PRODID:-//wmmi.org//NONSGML kigkonsult.se iCalcreator 2.30.10//
CALSCALE:GREGORIAN
METHOD:PUBLISH
UID:ad30308a-f780-46b3-a7b0-e5b6cba8651a
X-WR-CALDESC:
X-WR-RELCALID:41d28220175d1ae1a7c3bb1fc3e5d2c7
X-WR-TIMEZONE:America/Chicago
BEGIN:VTIMEZONE
TZID:America/Chicago
BEGIN:STANDARD
TZNAME:CST
DTSTART:20221106T020000
TZOFFSETFROM:-0500
TZOFFSETTO:-0600
RDATE:20231105T020000
END:STANDARD
BEGIN:DAYLIGHT
TZNAME:CDT
DTSTART:20220313T020000
TZOFFSETFROM:-0600
TZOFFSETTO:-0500
RDATE:20230312T020000
RDATE:20240310T020000
END:DAYLIGHT
END:VTIMEZONE
BEGIN:VEVENT
UID:bb9c627f-21a9-421b-9261-37ca6c0c444e
DTSTAMP:20260421T163925Z
DESCRIPTION:
DTSTART;TZID=America/Chicago:20221226T000000
DTEND;TZID=America/Chicago:20221226T235900
LOCATION:
SUMMARY:Museum Closed for Holiday
END:VEVENT
END:VCALENDAR
