BEGIN:VCALENDAR
VERSION:2.0
PRODID:-//wmmi.org//NONSGML kigkonsult.se iCalcreator 2.30.10//
CALSCALE:GREGORIAN
METHOD:PUBLISH
UID:eb8ec19e-e4d4-49ae-b398-e4a0d0f51d88
X-WR-CALDESC:
X-WR-RELCALID:c008ec11f4242cba749f8bc6d39beb80
X-WR-TIMEZONE:America/Chicago
BEGIN:VTIMEZONE
TZID:America/Chicago
BEGIN:STANDARD
TZNAME:CST
DTSTART:20221106T020000
TZOFFSETFROM:-0500
TZOFFSETTO:-0600
RDATE:20231105T020000
END:STANDARD
BEGIN:DAYLIGHT
TZNAME:CDT
DTSTART:20220313T020000
TZOFFSETFROM:-0600
TZOFFSETTO:-0500
RDATE:20230312T020000
RDATE:20240310T020000
END:DAYLIGHT
END:VTIMEZONE
BEGIN:VEVENT
UID:ebe14199-79ed-429b-b428-b8ab34cfdb28
DTSTAMP:20260421T171316Z
DESCRIPTION:
DTSTART;TZID=America/Chicago:20221225T100000
DTEND;TZID=America/Chicago:20221225T120000
LOCATION:
SUMMARY:Christmas Day-Museum Closed
END:VEVENT
END:VCALENDAR
