BEGIN:VCALENDAR
VERSION:2.0
PRODID:-//wmmi.org//NONSGML kigkonsult.se iCalcreator 2.30.10//
CALSCALE:GREGORIAN
METHOD:PUBLISH
UID:6e67fffe-5200-4c4e-b8da-ccbacdd3e6d6
X-WR-CALDESC:
X-WR-RELCALID:707be2ddf065ad2770cb5f1de9c2ad11
X-WR-TIMEZONE:America/Chicago
BEGIN:VTIMEZONE
TZID:America/Chicago
BEGIN:STANDARD
TZNAME:CST
DTSTART:20221106T020000
TZOFFSETFROM:-0500
TZOFFSETTO:-0600
RDATE:20231105T020000
END:STANDARD
BEGIN:DAYLIGHT
TZNAME:CDT
DTSTART:20220313T020000
TZOFFSETFROM:-0600
TZOFFSETTO:-0500
RDATE:20230312T020000
RDATE:20240310T020000
END:DAYLIGHT
END:VTIMEZONE
BEGIN:VEVENT
UID:754b5cfb-2216-4028-a346-e9395616176b
DTSTAMP:20260421T164824Z
DESCRIPTION:
DTSTART;TZID=America/Chicago:20221224T000000
DTEND;TZID=America/Chicago:20221225T005900
LOCATION:
SUMMARY:Christmas Eve (close 2pm)
END:VEVENT
END:VCALENDAR
