BEGIN:VCALENDAR
VERSION:2.0
PRODID:-//wmmi.org//NONSGML kigkonsult.se iCalcreator 2.30.10//
CALSCALE:GREGORIAN
METHOD:PUBLISH
UID:4948749d-8c37-4015-99e7-8cbb7a50b273
X-WR-CALDESC:
X-WR-RELCALID:639fd5558d143c817fb4785dfb6ab909
X-WR-TIMEZONE:America/Chicago
BEGIN:VTIMEZONE
TZID:America/Chicago
BEGIN:STANDARD
TZNAME:CST
DTSTART:20221106T020000
TZOFFSETFROM:-0500
TZOFFSETTO:-0600
RDATE:20231105T020000
END:STANDARD
BEGIN:DAYLIGHT
TZNAME:CDT
DTSTART:20220313T020000
TZOFFSETFROM:-0600
TZOFFSETTO:-0500
RDATE:20230312T020000
RDATE:20240310T020000
END:DAYLIGHT
END:VTIMEZONE
BEGIN:VEVENT
UID:4c4d82be-50fd-44fe-a8be-78e54604357c
DTSTAMP:20260423T085344Z
DESCRIPTION:
DTSTART;TZID=America/Chicago:20221206T000000
DTEND;TZID=America/Chicago:20221206T235900
LOCATION:
SUMMARY:Miners' Day (miners receive FREE Admission
END:VEVENT
END:VCALENDAR
