BEGIN:VCALENDAR
VERSION:2.0
PRODID:-//wmmi.org//NONSGML kigkonsult.se iCalcreator 2.30.10//
CALSCALE:GREGORIAN
METHOD:PUBLISH
UID:ebfc0e07-61b3-43c6-bd3a-cc16e384c35c
X-WR-CALDESC:
X-WR-RELCALID:24d20efddb26f245c6f88f127b12b5d6
X-WR-TIMEZONE:America/Chicago
BEGIN:VTIMEZONE
TZID:America/Chicago
BEGIN:STANDARD
TZNAME:CST
DTSTART:20221106T020000
TZOFFSETFROM:-0500
TZOFFSETTO:-0600
RDATE:20231105T020000
END:STANDARD
BEGIN:DAYLIGHT
TZNAME:CDT
DTSTART:20220313T020000
TZOFFSETFROM:-0600
TZOFFSETTO:-0500
RDATE:20230312T020000
RDATE:20240310T020000
END:DAYLIGHT
END:VTIMEZONE
BEGIN:VEVENT
UID:46bcea9d-0952-4b9f-95e1-6aee481a644c
DTSTAMP:20260421T181806Z
DESCRIPTION:
DTSTART;TZID=America/Chicago:20221124T000000
DTEND;TZID=America/Chicago:20221124T235900
LOCATION:
SUMMARY:Thanksgiving Day.  Museum is Closed
END:VEVENT
END:VCALENDAR
