BEGIN:VCALENDAR
VERSION:2.0
PRODID:-//wmmi.org//NONSGML kigkonsult.se iCalcreator 2.30.10//
CALSCALE:GREGORIAN
METHOD:PUBLISH
UID:4c80e4d1-1601-4333-8a7b-877a3d647f29
X-WR-CALDESC:Enjoy Food\, Adult Beverages\, Special Tour of the Museum\, Mo
 vies\, Music and more on this 'NERD NITE FIELD TRIP'  Where it's hip to be
  square!
X-WR-RELCALID:a276c2560419d68e49094ce45e777642
X-WR-TIMEZONE:America/Denver
BEGIN:VTIMEZONE
TZID:America/Denver
BEGIN:STANDARD
TZNAME:MST
DTSTART:20221106T020000
TZOFFSETFROM:-0600
TZOFFSETTO:-0700
RDATE:20231105T020000
END:STANDARD
BEGIN:DAYLIGHT
TZNAME:MDT
DTSTART:20220313T020000
TZOFFSETFROM:-0700
TZOFFSETTO:-0600
RDATE:20230312T020000
RDATE:20240310T020000
END:DAYLIGHT
END:VTIMEZONE
BEGIN:VEVENT
UID:687537e0-44fb-42f6-91ee-a60361c304dd
DTSTAMP:20260421T182422Z
DESCRIPTION:Enjoy Food\, Adult Beverages\, Special Tour of the Museum\, Mov
 ies\, Music and more on this 'NERD NITE FIELD TRIP'  Where it's hip to be 
 square!
DTSTART;TZID=America/Denver:20221118T173000
DTEND;TZID=America/Denver:20221118T203000
LOCATION:
SUMMARY:Nerd Nite Field Trip to WMMI
END:VEVENT
END:VCALENDAR
