BEGIN:VCALENDAR
VERSION:2.0
PRODID:-//wmmi.org//NONSGML kigkonsult.se iCalcreator 2.30.10//
CALSCALE:GREGORIAN
METHOD:PUBLISH
UID:2843eeea-66a2-4ad9-8f8a-bfb84afc38e2
X-WR-CALDESC:Reserve\, Return or Browse for books at the PPLD Bookmobile ev
 ery Monday in the Reynolds Ranch House parking area.\nPLUS---pre-schoolers
  are invited to STORY TIME inside the Reynolds Ranch House each week.  \nC
 all 719-488-0880 for information or check with your favorite Library Branc
 h.
X-WR-RELCALID:5fe2ea9d6fbd603d7e06a7856e8f9359
X-WR-TIMEZONE:America/Denver
BEGIN:VTIMEZONE
TZID:America/Denver
BEGIN:STANDARD
TZNAME:MST
DTSTART:20221106T020000
TZOFFSETFROM:-0600
TZOFFSETTO:-0700
RDATE:20231105T020000
END:STANDARD
BEGIN:DAYLIGHT
TZNAME:MDT
DTSTART:20220313T020000
TZOFFSETFROM:-0700
TZOFFSETTO:-0600
RDATE:20230312T020000
RDATE:20240310T020000
END:DAYLIGHT
END:VTIMEZONE
BEGIN:VEVENT
UID:52417743-8694-40a0-bd1e-7a2759848141
DTSTAMP:20260421T183151Z
DESCRIPTION:Reserve\, Return or Browse for books at the PPLD Bookmobile eve
 ry Monday in the Reynolds Ranch House parking area.\nPLUS---pre-schoolers 
 are invited to STORY TIME inside the Reynolds Ranch House each week.  \nCa
 ll 719-488-0880 for information or check with your favorite Library Branch
 .
DTSTART;TZID=America/Denver:20221114T093000
DTEND;TZID=America/Denver:20221114T103000
LOCATION:
SUMMARY:PPLD Bookmobile and Storytime
END:VEVENT
END:VCALENDAR
