BEGIN:VCALENDAR
VERSION:2.0
PRODID:-//wmmi.org//NONSGML kigkonsult.se iCalcreator 2.30.10//
CALSCALE:GREGORIAN
METHOD:PUBLISH
UID:fd72f268-f582-492a-a10a-82a145124b77
X-WR-CALDESC:Thank you for all who serve or have served in the Armed Forces
 . We welcome you with FREE ADMISSION to the museum on Friday\, November 11
 .
X-WR-RELCALID:eb335b9ee9ce1568debdb5c58b04300a
X-WR-TIMEZONE:America/Chicago
BEGIN:VTIMEZONE
TZID:America/Chicago
BEGIN:STANDARD
TZNAME:CST
DTSTART:20221106T020000
TZOFFSETFROM:-0500
TZOFFSETTO:-0600
RDATE:20231105T020000
END:STANDARD
BEGIN:DAYLIGHT
TZNAME:CDT
DTSTART:20220313T020000
TZOFFSETFROM:-0600
TZOFFSETTO:-0500
RDATE:20230312T020000
RDATE:20240310T020000
END:DAYLIGHT
END:VTIMEZONE
BEGIN:VEVENT
UID:a6871121-2838-4528-a40b-09a70234bed6
DTSTAMP:20260421T182416Z
DESCRIPTION:Thank you for all who serve or have served in the Armed Forces.
  We welcome you with FREE ADMISSION to the museum on Friday\, November 11.
DTSTART;TZID=America/Chicago:20221111T000000
DTEND;TZID=America/Chicago:20221111T235900
LOCATION:
SUMMARY:Veteran's Day-FREE ADMISSION for Veterans
END:VEVENT
END:VCALENDAR
