BEGIN:VCALENDAR
VERSION:2.0
PRODID:-//wmmi.org//NONSGML kigkonsult.se iCalcreator 2.30.10//
CALSCALE:GREGORIAN
METHOD:PUBLISH
UID:c3219cb4-662e-4c6d-abf4-254f9c147d07
X-WR-CALDESC:Join us for the final Lecture of 2022.  Greg Patterson present
 s:  Gold mining and exploration in Nevada today\, from the perspective of 
 Colorado Springs based gold producer Fortitude Gold Corporation
X-WR-RELCALID:7f83625c429e1d843376187e32aeb980
X-WR-TIMEZONE:America/Denver
BEGIN:VTIMEZONE
TZID:America/Denver
BEGIN:STANDARD
TZNAME:MST
DTSTART:20221106T020000
TZOFFSETFROM:-0600
TZOFFSETTO:-0700
RDATE:20231105T020000
END:STANDARD
BEGIN:DAYLIGHT
TZNAME:MDT
DTSTART:20220313T020000
TZOFFSETFROM:-0700
TZOFFSETTO:-0600
RDATE:20230312T020000
RDATE:20240310T020000
END:DAYLIGHT
END:VTIMEZONE
BEGIN:VEVENT
UID:06e28596-a866-4d43-bfb3-524a18fd9520
DTSTAMP:20260421T181828Z
DESCRIPTION:Join us for the final Lecture of 2022.  Greg Patterson presents
 :  Gold mining and exploration in Nevada today\, from the perspective of C
 olorado Springs based gold producer Fortitude Gold Corporation
DTSTART;TZID=America/Denver:20221108T160000
DTEND;TZID=America/Denver:20221108T170000
LOCATION:
SUMMARY:Speaker's Bureau Lecture Series
END:VEVENT
END:VCALENDAR
