BEGIN:VCALENDAR
VERSION:2.0
PRODID:-//wmmi.org//NONSGML kigkonsult.se iCalcreator 2.30.10//
CALSCALE:GREGORIAN
METHOD:PUBLISH
UID:b27db51f-5930-4dfe-8284-3fe0cd20ef6b
X-WR-CALDESC:Reserve\, Return or Browse for books at the PPLD Bookmobile ev
 ery Monday in the Reynolds Ranch House parking area.\nPLUS---pre-schoolers
  are invited to STORY TIME inside the Reynolds Ranch House each week.  \nC
 all 719-488-0880 for information or check with your favorite Library Branc
 h.
X-WR-RELCALID:e964cc6fed80a886d49ee56292492579
X-WR-TIMEZONE:America/Denver
BEGIN:VTIMEZONE
TZID:America/Denver
BEGIN:STANDARD
TZNAME:MST
DTSTART:20211107T020000
TZOFFSETFROM:-0600
TZOFFSETTO:-0700
RDATE:20221106T020000
RDATE:20231105T020000
END:STANDARD
BEGIN:DAYLIGHT
TZNAME:MDT
DTSTART:20220313T020000
TZOFFSETFROM:-0700
TZOFFSETTO:-0600
RDATE:20230312T020000
RDATE:20240310T020000
END:DAYLIGHT
END:VTIMEZONE
BEGIN:VEVENT
UID:be0b92f3-fc2a-47d0-90da-0c262e090bd0
DTSTAMP:20260421T183340Z
DESCRIPTION:Reserve\, Return or Browse for books at the PPLD Bookmobile eve
 ry Monday in the Reynolds Ranch House parking area.\nPLUS---pre-schoolers 
 are invited to STORY TIME inside the Reynolds Ranch House each week.  \nCa
 ll 719-488-0880 for information or check with your favorite Library Branch
 .
DTSTART;TZID=America/Denver:20221107T093000
DTEND;TZID=America/Denver:20221107T103000
LOCATION:
SUMMARY:PPLD Bookmobile and Storytime
END:VEVENT
END:VCALENDAR
