BEGIN:VCALENDAR
VERSION:2.0
PRODID:-//wmmi.org//NONSGML kigkonsult.se iCalcreator 2.30.10//
CALSCALE:GREGORIAN
METHOD:PUBLISH
UID:5ee6b8a1-090b-42e1-96aa-8792389350cd
X-WR-CALDESC:
X-WR-RELCALID:0300d07deaee673952c3cbddd29b650b
X-WR-TIMEZONE:America/Denver
BEGIN:VTIMEZONE
TZID:America/Denver
BEGIN:STANDARD
TZNAME:MST
DTSTART:20211107T020000
TZOFFSETFROM:-0600
TZOFFSETTO:-0700
RDATE:20221106T020000
RDATE:20231105T020000
END:STANDARD
BEGIN:DAYLIGHT
TZNAME:MDT
DTSTART:20220313T020000
TZOFFSETFROM:-0700
TZOFFSETTO:-0600
RDATE:20230312T020000
RDATE:20240310T020000
END:DAYLIGHT
END:VTIMEZONE
BEGIN:VEVENT
UID:420ab59a-3706-4326-9ae9-3c029cc5f4ba
DTSTAMP:20260421T194144Z
DESCRIPTION:
DTSTART;TZID=America/Denver:20221012T123000
DTEND;TZID=America/Denver:20221012T153000
LOCATION:225 north gate blvd\, colorado springs\, CO 80921 US
SUMMARY:Home School Days
END:VEVENT
END:VCALENDAR
