BEGIN:VCALENDAR
VERSION:2.0
PRODID:-//wmmi.org//NONSGML kigkonsult.se iCalcreator 2.30.10//
CALSCALE:GREGORIAN
METHOD:PUBLISH
UID:4422d933-47d3-4b05-bbbd-78d145b96b4a
X-WR-CALDESC:Join us for the monthly lecture.  Museum Members are FREE.  Gu
 ests are only $5.00
X-WR-RELCALID:b337615360ee1c734f675f011c49c24b
X-WR-TIMEZONE:America/Denver
BEGIN:VTIMEZONE
TZID:America/Denver
BEGIN:STANDARD
TZNAME:MST
DTSTART:20211107T020000
TZOFFSETFROM:-0600
TZOFFSETTO:-0700
RDATE:20221106T020000
RDATE:20231105T020000
END:STANDARD
BEGIN:DAYLIGHT
TZNAME:MDT
DTSTART:20220313T020000
TZOFFSETFROM:-0700
TZOFFSETTO:-0600
RDATE:20230312T020000
RDATE:20240310T020000
END:DAYLIGHT
END:VTIMEZONE
BEGIN:VEVENT
UID:25e423f5-db71-4d6a-a7b8-600b910466b9
DTSTAMP:20260421T194931Z
DESCRIPTION:Join us for the monthly lecture.  Museum Members are FREE.  Gue
 sts are only $5.00
DTSTART;TZID=America/Denver:20221011T160000
DTEND;TZID=America/Denver:20221011T170000
LOCATION:225 North Gate Blvd\, colorado springs\, CO 80921 US
SUMMARY:Monthly Lecture-Mr Bruce Geller\, History of Gold Mining in Colorad
 o
END:VEVENT
END:VCALENDAR
