BEGIN:VCALENDAR
VERSION:2.0
PRODID:-//wmmi.org//NONSGML kigkonsult.se iCalcreator 2.30.10//
CALSCALE:GREGORIAN
METHOD:PUBLISH
UID:9c8fceeb-2333-4464-b529-df56db00a8d4
X-WR-CALDESC:Be part of WMMI's largest FUNDRAISER of the YEAR!  See machine
 ry demonstrations\, take a hayride\, see the Blacksmith shop in operation.
  PLUS--of course--the Pumpkin Patch with locally sourced pumpkins\, hay ma
 ze\, hay slide\, field games\, sack races and much more!
X-WR-RELCALID:643fdc8965a5e3e141a271a94e79358c
X-WR-TIMEZONE:America/Chicago
BEGIN:VTIMEZONE
TZID:America/Chicago
BEGIN:STANDARD
TZNAME:CST
DTSTART:20211107T020000
TZOFFSETFROM:-0500
TZOFFSETTO:-0600
RDATE:20221106T020000
RDATE:20231105T020000
END:STANDARD
BEGIN:DAYLIGHT
TZNAME:CDT
DTSTART:20220313T020000
TZOFFSETFROM:-0600
TZOFFSETTO:-0500
RDATE:20230312T020000
RDATE:20240310T020000
END:DAYLIGHT
END:VTIMEZONE
BEGIN:VEVENT
UID:31889834-945d-4f36-9a32-6b25f1785e0e
DTSTAMP:20260421T194221Z
DESCRIPTION:Be part of WMMI's largest FUNDRAISER of the YEAR!  See machiner
 y demonstrations\, take a hayride\, see the Blacksmith shop in operation. 
 PLUS--of course--the Pumpkin Patch with locally sourced pumpkins\, hay maz
 e\, hay slide\, field games\, sack races and much more!
DTSTART;TZID=America/Chicago:20221001T123000
DTEND;TZID=America/Chicago:20221001T143000
LOCATION:225 North Gate Blvd\, colorado springs\, CO 80921 US
SUMMARY:Miners Pumpkin Patch
END:VEVENT
END:VCALENDAR
