BEGIN:VCALENDAR
VERSION:2.0
PRODID:-//wmmi.org//NONSGML kigkonsult.se iCalcreator 2.30.10//
CALSCALE:GREGORIAN
METHOD:PUBLISH
UID:4e7e1a3e-c501-4776-a721-ff997ad1893f
X-WR-CALDESC:
X-WR-RELCALID:347100ee24081b6fd5ecd42da793e173
X-WR-TIMEZONE:America/Chicago
BEGIN:VTIMEZONE
TZID:America/Chicago
BEGIN:STANDARD
TZNAME:CST
DTSTART:20211107T020000
TZOFFSETFROM:-0500
TZOFFSETTO:-0600
RDATE:20221106T020000
RDATE:20231105T020000
END:STANDARD
BEGIN:DAYLIGHT
TZNAME:CDT
DTSTART:20220313T020000
TZOFFSETFROM:-0600
TZOFFSETTO:-0500
RDATE:20230312T020000
END:DAYLIGHT
END:VTIMEZONE
BEGIN:VEVENT
UID:c367254c-6576-4886-9883-1ab8ed6629a9
DTSTAMP:20260421T225339Z
DESCRIPTION:
DTSTART;TZID=America/Chicago:20220829T090000
DTEND;TZID=America/Chicago:20220829T180000
LOCATION:225 North Gate Blvd\, colorado springs\, CO 80921 US
SUMMARY:Monday Farmers Market
END:VEVENT
END:VCALENDAR
