BEGIN:VCALENDAR
VERSION:2.0
PRODID:-//wmmi.org//NONSGML kigkonsult.se iCalcreator 2.30.10//
CALSCALE:GREGORIAN
METHOD:PUBLISH
UID:5b71fe98-8253-486b-8d36-b99110f267ab
X-WR-CALDESC:Come to our final FAMILY DAY with OUTDOOR DEMONSTRATIONS of ou
 r mining equipment and the famous Yellow Jacket Stamp Mill.  Outdoor activ
 ities are FREE\, inside the museum is regular charge. August features HIST
 ORY...see many re-enactors as they bring the old west to life.
X-WR-RELCALID:b19ba9510a503c1503d01e5887b5498e
X-WR-TIMEZONE:America/Denver
BEGIN:VTIMEZONE
TZID:America/Denver
BEGIN:STANDARD
TZNAME:MST
DTSTART:20211107T020000
TZOFFSETFROM:-0600
TZOFFSETTO:-0700
RDATE:20221106T020000
RDATE:20231105T020000
END:STANDARD
BEGIN:DAYLIGHT
TZNAME:MDT
DTSTART:20220313T020000
TZOFFSETFROM:-0700
TZOFFSETTO:-0600
RDATE:20230312T020000
END:DAYLIGHT
END:VTIMEZONE
BEGIN:VEVENT
UID:772ad51a-4e71-40c6-ac41-5b7d7c446712
DTSTAMP:20260421T223851Z
DESCRIPTION:Come to our final FAMILY DAY with OUTDOOR DEMONSTRATIONS of our
  mining equipment and the famous Yellow Jacket Stamp Mill.  Outdoor activi
 ties are FREE\, inside the museum is regular charge. August features HISTO
 RY...see many re-enactors as they bring the old west to life.
DTSTART;TZID=America/Denver:20220820T100000
DTEND;TZID=America/Denver:20220820T150000
LOCATION:225 North Gate Blvd\, colorado springs\, CO 80921 US
SUMMARY:Family Day - History
END:VEVENT
END:VCALENDAR
