BEGIN:VCALENDAR
VERSION:2.0
PRODID:-//wmmi.org//NONSGML kigkonsult.se iCalcreator 2.30.10//
CALSCALE:GREGORIAN
METHOD:PUBLISH
UID:6336c163-de35-4647-99a3-9e5d48f09d0e
X-WR-CALDESC:
X-WR-RELCALID:24b67a21a4f463ef633fc114d2771c0a
X-WR-TIMEZONE:America/Chicago
BEGIN:VTIMEZONE
TZID:America/Chicago
BEGIN:STANDARD
TZNAME:CST
DTSTART:20211107T020000
TZOFFSETFROM:-0500
TZOFFSETTO:-0600
RDATE:20221106T020000
RDATE:20231105T020000
END:STANDARD
BEGIN:DAYLIGHT
TZNAME:CDT
DTSTART:20220313T020000
TZOFFSETFROM:-0600
TZOFFSETTO:-0500
RDATE:20230312T020000
END:DAYLIGHT
END:VTIMEZONE
BEGIN:VEVENT
UID:353fc6b7-7923-433f-ac2a-17ea9cf1bc1f
DTSTAMP:20260421T223945Z
DESCRIPTION:
DTSTART;TZID=America/Chicago:20220815T093000
DTEND;TZID=America/Chicago:20220815T103000
LOCATION:
SUMMARY:PPLD Story Time & Bookmobile
END:VEVENT
END:VCALENDAR
