BEGIN:VCALENDAR
VERSION:2.0
PRODID:-//wmmi.org//NONSGML kigkonsult.se iCalcreator 2.30.10//
CALSCALE:GREGORIAN
METHOD:PUBLISH
UID:a3084403-b27f-4221-b6d4-1ce0c3e8c189
X-WR-CALDESC:
X-WR-RELCALID:f6d14986772417172201564337477683
X-WR-TIMEZONE:America/Chicago
BEGIN:VTIMEZONE
TZID:America/Chicago
BEGIN:STANDARD
TZNAME:CST
DTSTART:20211107T020000
TZOFFSETFROM:-0500
TZOFFSETTO:-0600
RDATE:20221106T020000
RDATE:20231105T020000
END:STANDARD
BEGIN:DAYLIGHT
TZNAME:CDT
DTSTART:20220313T020000
TZOFFSETFROM:-0600
TZOFFSETTO:-0500
RDATE:20230312T020000
END:DAYLIGHT
END:VTIMEZONE
BEGIN:VEVENT
UID:e0a02a89-cd1a-47d5-8ca4-6ee0896deaa4
DTSTAMP:20260421T224412Z
DESCRIPTION:
DTSTART;TZID=America/Chicago:20220815T090000
DTEND;TZID=America/Chicago:20220815T180000
LOCATION:225 North Gate Blvd\, colorado springs\, CO 80921 US
SUMMARY:Monday Farmers Market
END:VEVENT
END:VCALENDAR
