BEGIN:VCALENDAR
VERSION:2.0
PRODID:-//wmmi.org//NONSGML kigkonsult.se iCalcreator 2.30.10//
CALSCALE:GREGORIAN
METHOD:PUBLISH
UID:c09e46be-60a6-4e0f-86fb-ed22099c1d1f
X-WR-CALDESC:Mr Mel McFarland discusses the Railroads of Cripple Creek Dist
 rict
X-WR-RELCALID:3f11abf7c2b4a07cf7c1049df3ebc920
X-WR-TIMEZONE:America/Denver
BEGIN:VTIMEZONE
TZID:America/Denver
BEGIN:STANDARD
TZNAME:MST
DTSTART:20211107T020000
TZOFFSETFROM:-0600
TZOFFSETTO:-0700
RDATE:20221106T020000
RDATE:20231105T020000
END:STANDARD
BEGIN:DAYLIGHT
TZNAME:MDT
DTSTART:20220313T020000
TZOFFSETFROM:-0700
TZOFFSETTO:-0600
RDATE:20230312T020000
END:DAYLIGHT
END:VTIMEZONE
BEGIN:VEVENT
UID:b8948e3c-3d1c-40dd-bd0d-8b3bebfda02b
DTSTAMP:20260421T223721Z
DESCRIPTION:Mr Mel McFarland discusses the Railroads of Cripple Creek Distr
 ict
DTSTART;TZID=America/Denver:20220809T160000
DTEND;TZID=America/Denver:20220809T170000
LOCATION:225 North Gate Blvd\, colorado springs\, CO 80921 US
SUMMARY:Speakers Bureau Lecture Series
END:VEVENT
END:VCALENDAR
