BEGIN:VCALENDAR
VERSION:2.0
PRODID:-//wmmi.org//NONSGML kigkonsult.se iCalcreator 2.30.10//
CALSCALE:GREGORIAN
METHOD:PUBLISH
UID:109d7ff7-b5a6-435c-9c7d-c2c209dd9553
X-WR-CALDESC:
X-WR-RELCALID:b520459fff524874ae0c48c32c48ed18
X-WR-TIMEZONE:America/Chicago
BEGIN:VTIMEZONE
TZID:America/Chicago
BEGIN:STANDARD
TZNAME:CST
DTSTART:20211107T020000
TZOFFSETFROM:-0500
TZOFFSETTO:-0600
RDATE:20221106T020000
RDATE:20231105T020000
END:STANDARD
BEGIN:DAYLIGHT
TZNAME:CDT
DTSTART:20220313T020000
TZOFFSETFROM:-0600
TZOFFSETTO:-0500
RDATE:20230312T020000
END:DAYLIGHT
END:VTIMEZONE
BEGIN:VEVENT
UID:c4546d8a-487e-4b70-a9fa-7ed38938a2f7
DTSTAMP:20260421T223856Z
DESCRIPTION:
DTSTART;TZID=America/Chicago:20220801T093000
DTEND;TZID=America/Chicago:20220801T103000
LOCATION:
SUMMARY:PPLD Story Time & Bookmobile
END:VEVENT
END:VCALENDAR
