BEGIN:VCALENDAR
VERSION:2.0
PRODID:-//wmmi.org//NONSGML kigkonsult.se iCalcreator 2.30.10//
CALSCALE:GREGORIAN
METHOD:PUBLISH
UID:dd0e4a44-ad23-4b04-a601-9b55b8639958
X-WR-CALDESC:
X-WR-RELCALID:7e7f318693b326dfc4007ad83492a191
X-WR-TIMEZONE:America/Chicago
BEGIN:VTIMEZONE
TZID:America/Chicago
BEGIN:STANDARD
TZNAME:CST
DTSTART:20211107T020000
TZOFFSETFROM:-0500
TZOFFSETTO:-0600
RDATE:20221106T020000
RDATE:20231105T020000
END:STANDARD
BEGIN:DAYLIGHT
TZNAME:CDT
DTSTART:20220313T020000
TZOFFSETFROM:-0600
TZOFFSETTO:-0500
RDATE:20230312T020000
END:DAYLIGHT
END:VTIMEZONE
BEGIN:VEVENT
UID:936f3a8c-e4b0-4ff1-b009-e599cad8b19d
DTSTAMP:20260422T000146Z
DESCRIPTION:
DTSTART;TZID=America/Chicago:20220725T093000
DTEND;TZID=America/Chicago:20220725T103000
LOCATION:
SUMMARY:PPLD Story Time & Bookmobile
END:VEVENT
END:VCALENDAR
