BEGIN:VCALENDAR
VERSION:2.0
PRODID:-//wmmi.org//NONSGML kigkonsult.se iCalcreator 2.30.10//
CALSCALE:GREGORIAN
METHOD:PUBLISH
UID:8dabaa77-292f-41e3-bc95-8bc918e30b0c
X-WR-CALDESC:
X-WR-RELCALID:ea33bf342b28fad1cd4d28fdc8dc3932
X-WR-TIMEZONE:America/Chicago
BEGIN:VTIMEZONE
TZID:America/Chicago
BEGIN:STANDARD
TZNAME:CST
DTSTART:20211107T020000
TZOFFSETFROM:-0500
TZOFFSETTO:-0600
RDATE:20221106T020000
RDATE:20231105T020000
END:STANDARD
BEGIN:DAYLIGHT
TZNAME:CDT
DTSTART:20220313T020000
TZOFFSETFROM:-0600
TZOFFSETTO:-0500
RDATE:20230312T020000
END:DAYLIGHT
END:VTIMEZONE
BEGIN:VEVENT
UID:099d04be-a295-4d4a-b01f-efb38ef2b6c9
DTSTAMP:20260422T000544Z
DESCRIPTION:
DTSTART;TZID=America/Chicago:20220725T090000
DTEND;TZID=America/Chicago:20220725T180000
LOCATION:225 North Gate Blvd\, colorado springs\, CO 80921 US
SUMMARY:Monday Farmers Market
END:VEVENT
END:VCALENDAR
