BEGIN:VCALENDAR
VERSION:2.0
PRODID:-//wmmi.org//NONSGML kigkonsult.se iCalcreator 2.30.10//
CALSCALE:GREGORIAN
METHOD:PUBLISH
UID:c05681fd-10fb-487a-8ab6-946f91aaf261
X-WR-CALDESC:
X-WR-RELCALID:1110dc9fa1b9dffc3523a5e952f5c749
X-WR-TIMEZONE:America/Chicago
BEGIN:VTIMEZONE
TZID:America/Chicago
BEGIN:STANDARD
TZNAME:CST
DTSTART:20211107T020000
TZOFFSETFROM:-0500
TZOFFSETTO:-0600
RDATE:20221106T020000
RDATE:20231105T020000
END:STANDARD
BEGIN:DAYLIGHT
TZNAME:CDT
DTSTART:20220313T020000
TZOFFSETFROM:-0600
TZOFFSETTO:-0500
RDATE:20230312T020000
END:DAYLIGHT
END:VTIMEZONE
BEGIN:VEVENT
UID:3c12526a-4008-48cd-9f02-c3b7077a7188
DTSTAMP:20260421T235853Z
DESCRIPTION:
DTSTART;TZID=America/Chicago:20220718T090000
DTEND;TZID=America/Chicago:20220722T150000
LOCATION:
SUMMARY:Summer STEaM CAMP Session II
END:VEVENT
END:VCALENDAR
