BEGIN:VCALENDAR
VERSION:2.0
PRODID:-//wmmi.org//NONSGML kigkonsult.se iCalcreator 2.30.10//
CALSCALE:GREGORIAN
METHOD:PUBLISH
UID:76ce396f-5312-44e2-95a2-aee4cff412a7
X-WR-CALDESC:
X-WR-RELCALID:718f36a52c0fd861cda42cd573a7a7b9
X-WR-TIMEZONE:America/Chicago
BEGIN:VTIMEZONE
TZID:America/Chicago
BEGIN:STANDARD
TZNAME:CST
DTSTART:20211107T020000
TZOFFSETFROM:-0500
TZOFFSETTO:-0600
RDATE:20221106T020000
RDATE:20231105T020000
END:STANDARD
BEGIN:DAYLIGHT
TZNAME:CDT
DTSTART:20220313T020000
TZOFFSETFROM:-0600
TZOFFSETTO:-0500
RDATE:20230312T020000
END:DAYLIGHT
END:VTIMEZONE
BEGIN:VEVENT
UID:0ab0055c-40f1-494e-89db-e3933f10b48d
DTSTAMP:20260422T000255Z
DESCRIPTION:
DTSTART;TZID=America/Chicago:20220711T093000
DTEND;TZID=America/Chicago:20220711T103000
LOCATION:
SUMMARY:PPLD Story Time & Bookmobile
END:VEVENT
END:VCALENDAR
