BEGIN:VCALENDAR
VERSION:2.0
PRODID:-//wmmi.org//NONSGML kigkonsult.se iCalcreator 2.30.10//
CALSCALE:GREGORIAN
METHOD:PUBLISH
UID:e80be1ca-6e6e-4390-974b-15fdd690ac8c
X-WR-CALDESC:
X-WR-RELCALID:add9b39cf6ea1d9724d4ec97eb1989a3
X-WR-TIMEZONE:America/Chicago
BEGIN:VTIMEZONE
TZID:America/Chicago
BEGIN:STANDARD
TZNAME:CST
DTSTART:20211107T020000
TZOFFSETFROM:-0500
TZOFFSETTO:-0600
RDATE:20221106T020000
RDATE:20231105T020000
END:STANDARD
BEGIN:DAYLIGHT
TZNAME:CDT
DTSTART:20220313T020000
TZOFFSETFROM:-0600
TZOFFSETTO:-0500
RDATE:20230312T020000
END:DAYLIGHT
END:VTIMEZONE
BEGIN:VEVENT
UID:2741c739-6578-4218-ba03-4dc42752aeb6
DTSTAMP:20260422T000729Z
DESCRIPTION:
DTSTART;TZID=America/Chicago:20220711T090000
DTEND;TZID=America/Chicago:20220711T180000
LOCATION:
SUMMARY:Monday Farmers Market
END:VEVENT
END:VCALENDAR
