BEGIN:VCALENDAR
VERSION:2.0
PRODID:-//wmmi.org//NONSGML kigkonsult.se iCalcreator 2.30.10//
CALSCALE:GREGORIAN
METHOD:PUBLISH
UID:a39cdd04-6552-43f0-a2a2-0ec7f5be67d2
X-WR-CALDESC:
X-WR-RELCALID:f1cd516f8d5bbf90183ab43b61ed0607
X-WR-TIMEZONE:America/Denver
BEGIN:VTIMEZONE
TZID:America/Denver
BEGIN:STANDARD
TZNAME:MST
DTSTART:20211107T020000
TZOFFSETFROM:-0600
TZOFFSETTO:-0700
RDATE:20221106T020000
RDATE:20231105T020000
END:STANDARD
BEGIN:DAYLIGHT
TZNAME:MDT
DTSTART:20220313T020000
TZOFFSETFROM:-0700
TZOFFSETTO:-0600
RDATE:20230312T020000
END:DAYLIGHT
END:VTIMEZONE
BEGIN:VEVENT
UID:7630a137-400a-4f7c-97cd-1ed1b3b23c53
DTSTAMP:20260421T235832Z
DESCRIPTION:
DTSTART;TZID=America/Denver:20220704T090000
DTEND;TZID=America/Denver:20220704T160000
LOCATION:
SUMMARY:July 4th--Open Regular Hours
END:VEVENT
END:VCALENDAR
