BEGIN:VCALENDAR
VERSION:2.0
PRODID:-//wmmi.org//NONSGML kigkonsult.se iCalcreator 2.30.10//
CALSCALE:GREGORIAN
METHOD:PUBLISH
UID:086a9cce-7bc0-4172-bc70-dc3bed009964
X-WR-CALDESC:
X-WR-RELCALID:c9705a9e2d96d589e23d58f7ae59c7db
X-WR-TIMEZONE:America/Chicago
BEGIN:VTIMEZONE
TZID:America/Chicago
BEGIN:STANDARD
TZNAME:CST
DTSTART:20211107T020000
TZOFFSETFROM:-0500
TZOFFSETTO:-0600
RDATE:20221106T020000
RDATE:20231105T020000
END:STANDARD
BEGIN:DAYLIGHT
TZNAME:CDT
DTSTART:20220313T020000
TZOFFSETFROM:-0600
TZOFFSETTO:-0500
RDATE:20230312T020000
END:DAYLIGHT
END:VTIMEZONE
BEGIN:VEVENT
UID:f9e25366-cd12-47bb-8759-250aa53bc154
DTSTAMP:20260422T001359Z
DESCRIPTION:
DTSTART;TZID=America/Chicago:20220704T090000
DTEND;TZID=America/Chicago:20220704T180000
LOCATION:
SUMMARY:Monday Farmers Market
END:VEVENT
END:VCALENDAR
