BEGIN:VCALENDAR
VERSION:2.0
PRODID:-//wmmi.org//NONSGML kigkonsult.se iCalcreator 2.30.10//
CALSCALE:GREGORIAN
METHOD:PUBLISH
UID:29a2077a-93c5-4bae-a84e-7eeb24cec248
X-WR-CALDESC:The bookmobile has over 5000 volumes for you to browse\, or pi
 ck up your HOLD items\, plus you can return your items here. \nThe PPLD St
 orytime is designed for pre-school aged children. Parents or responsible a
 dult must remain on site.  Space is limited\, please reserve in advance
X-WR-RELCALID:03f74d76cdc4e60ae5a175b7f3daa54a
X-WR-TIMEZONE:America/Denver
BEGIN:VTIMEZONE
TZID:America/Denver
BEGIN:STANDARD
TZNAME:MST
DTSTART:20211107T020000
TZOFFSETFROM:-0600
TZOFFSETTO:-0700
RDATE:20221106T020000
RDATE:20231105T020000
END:STANDARD
BEGIN:DAYLIGHT
TZNAME:MDT
DTSTART:20220313T020000
TZOFFSETFROM:-0700
TZOFFSETTO:-0600
RDATE:20230312T020000
END:DAYLIGHT
END:VTIMEZONE
BEGIN:VEVENT
UID:0544de02-d2d0-440b-9b3d-3ac1b77c37d1
DTSTAMP:20260422T012719Z
DESCRIPTION:The bookmobile has over 5000 volumes for you to browse\, or pic
 k up your HOLD items\, plus you can return your items here. \nThe PPLD Sto
 rytime is designed for pre-school aged children. Parents or responsible ad
 ult must remain on site.  Space is limited\, please reserve in advance
DTSTART;TZID=America/Denver:20220627T093000
DTEND;TZID=America/Denver:20220627T103000
LOCATION:225 North Gate Blvd\, colorado springs\, CO 80921 US
SUMMARY:PPLD Bookmobile and StoryTime
END:VEVENT
END:VCALENDAR
