BEGIN:VCALENDAR
VERSION:2.0
PRODID:-//wmmi.org//NONSGML kigkonsult.se iCalcreator 2.30.10//
CALSCALE:GREGORIAN
METHOD:PUBLISH
UID:993ba7bf-261a-4691-a3f0-5a6872bb79c2
X-WR-CALDESC:
X-WR-RELCALID:0236845cd8669289941d6fff2a8e7f24
X-WR-TIMEZONE:America/Chicago
BEGIN:VTIMEZONE
TZID:America/Chicago
BEGIN:STANDARD
TZNAME:CST
DTSTART:20211107T020000
TZOFFSETFROM:-0500
TZOFFSETTO:-0600
RDATE:20221106T020000
RDATE:20231105T020000
END:STANDARD
BEGIN:DAYLIGHT
TZNAME:CDT
DTSTART:20220313T020000
TZOFFSETFROM:-0600
TZOFFSETTO:-0500
RDATE:20230312T020000
END:DAYLIGHT
END:VTIMEZONE
BEGIN:VEVENT
UID:0bbc5e1d-f38f-4140-8d75-999c7fe83b9c
DTSTAMP:20260422T012832Z
DESCRIPTION:
DTSTART;TZID=America/Chicago:20220627T090000
DTEND;TZID=America/Chicago:20220627T180000
LOCATION:
SUMMARY:Monday Farmers Market
END:VEVENT
END:VCALENDAR
