BEGIN:VCALENDAR
VERSION:2.0
PRODID:-//wmmi.org//NONSGML kigkonsult.se iCalcreator 2.30.10//
CALSCALE:GREGORIAN
METHOD:PUBLISH
UID:ab2727e7-282e-470b-8474-634d4c74a351
X-WR-CALDESC:
X-WR-RELCALID:25de936f4e33fed14189d773d8a57cfd
X-WR-TIMEZONE:America/Denver
BEGIN:VTIMEZONE
TZID:America/Denver
BEGIN:STANDARD
TZNAME:MST
DTSTART:20211107T020000
TZOFFSETFROM:-0600
TZOFFSETTO:-0700
RDATE:20221106T020000
RDATE:20231105T020000
END:STANDARD
BEGIN:DAYLIGHT
TZNAME:MDT
DTSTART:20220313T020000
TZOFFSETFROM:-0700
TZOFFSETTO:-0600
RDATE:20230312T020000
END:DAYLIGHT
END:VTIMEZONE
BEGIN:VEVENT
UID:9aaacbc7-bd67-409e-b929-a095a76e27cc
DTSTAMP:20260422T012440Z
DESCRIPTION:
DTSTART;TZID=America/Denver:20220614T160000
DTEND;TZID=America/Denver:20220614T170000
LOCATION:
SUMMARY:Speakers Bureau Lecture Series
END:VEVENT
END:VCALENDAR
