BEGIN:VCALENDAR
VERSION:2.0
PRODID:-//wmmi.org//NONSGML kigkonsult.se iCalcreator 2.30.10//
CALSCALE:GREGORIAN
METHOD:PUBLISH
UID:ddd6b07b-e398-42ef-a512-daa4a9eb887a
X-WR-CALDESC:
X-WR-RELCALID:876582453c402f8b8a39ba3e38c3b5a9
X-WR-TIMEZONE:America/Chicago
BEGIN:VTIMEZONE
TZID:America/Chicago
BEGIN:STANDARD
TZNAME:CST
DTSTART:20211107T020000
TZOFFSETFROM:-0500
TZOFFSETTO:-0600
RDATE:20221106T020000
RDATE:20231105T020000
END:STANDARD
BEGIN:DAYLIGHT
TZNAME:CDT
DTSTART:20220313T020000
TZOFFSETFROM:-0600
TZOFFSETTO:-0500
RDATE:20230312T020000
END:DAYLIGHT
END:VTIMEZONE
BEGIN:VEVENT
UID:b74d4415-f461-4d0f-857f-27f34554f2be
DTSTAMP:20260422T012906Z
DESCRIPTION:
DTSTART;TZID=America/Chicago:20220611T100000
DTEND;TZID=America/Chicago:20220611T150000
LOCATION:
SUMMARY:Family Day: Science (Outdoor Machinery Demonstrations)
END:VEVENT
END:VCALENDAR
