BEGIN:VCALENDAR
VERSION:2.0
PRODID:-//wmmi.org//NONSGML kigkonsult.se iCalcreator 2.30.10//
CALSCALE:GREGORIAN
METHOD:PUBLISH
UID:5a4f3355-4548-494c-a084-e02d03565c7b
X-WR-CALDESC:The Western Museum of Mining and Industry will be open regular
  hours.  Tours take place at 10am and 1pm.  there will NOT be PPLD storyti
 me nor bookmobile on this Federal Holiday.
X-WR-RELCALID:961cd9bc55b95ffb2d7e71a10def437b
X-WR-TIMEZONE:America/Denver
BEGIN:VTIMEZONE
TZID:America/Denver
BEGIN:STANDARD
TZNAME:MST
DTSTART:20211107T020000
TZOFFSETFROM:-0600
TZOFFSETTO:-0700
RDATE:20221106T020000
RDATE:20231105T020000
END:STANDARD
BEGIN:DAYLIGHT
TZNAME:MDT
DTSTART:20220313T020000
TZOFFSETFROM:-0700
TZOFFSETTO:-0600
RDATE:20230312T020000
END:DAYLIGHT
END:VTIMEZONE
BEGIN:VEVENT
UID:8ca2d35e-b42a-4808-9a94-96509fe96942
DTSTAMP:20260424T093109Z
DESCRIPTION:The Western Museum of Mining and Industry will be open regular 
 hours.  Tours take place at 10am and 1pm.  there will NOT be PPLD storytim
 e nor bookmobile on this Federal Holiday.
DTSTART;TZID=America/Denver:20220530T090000
DTEND;TZID=America/Denver:20220530T160000
LOCATION:
SUMMARY:Memorial Day: Open Regular Hours
END:VEVENT
END:VCALENDAR
