BEGIN:VCALENDAR
VERSION:2.0
PRODID:-//wmmi.org//NONSGML kigkonsult.se iCalcreator 2.30.10//
CALSCALE:GREGORIAN
METHOD:PUBLISH
UID:d7f96380-5a45-454b-ac8e-41d9bb89d119
X-WR-CALDESC:Bring a blanket and chairs to watch the Air Show.  Little Bear
 s Sloppy Joes and Ice Cream Floats will be on site\, or feel free to bring
  your own picnic.  Don't forget your sunscreen!\n\nPurchase tickets in adv
 ance or pay upon entry.  (Members are free)  The museum WILL be open.
X-WR-RELCALID:bf1fc765722df77aae79df8d6dac4d29
X-WR-TIMEZONE:America/Denver
BEGIN:VTIMEZONE
TZID:America/Denver
BEGIN:STANDARD
TZNAME:MST
DTSTART:20211107T020000
TZOFFSETFROM:-0600
TZOFFSETTO:-0700
RDATE:20221106T020000
RDATE:20231105T020000
END:STANDARD
BEGIN:DAYLIGHT
TZNAME:MDT
DTSTART:20220313T020000
TZOFFSETFROM:-0700
TZOFFSETTO:-0600
RDATE:20230312T020000
END:DAYLIGHT
END:VTIMEZONE
BEGIN:VEVENT
UID:68bede7b-fdf9-485b-ad23-66b8e332edb0
DTSTAMP:20260422T024954Z
DESCRIPTION:Bring a blanket and chairs to watch the Air Show.  Little Bears
  Sloppy Joes and Ice Cream Floats will be on site\, or feel free to bring 
 your own picnic.  Don't forget your sunscreen!\n\nPurchase tickets in adva
 nce or pay upon entry.  (Members are free)  The museum WILL be open.
DTSTART;TZID=America/Denver:20220525T120000
DTEND;TZID=America/Denver:20220525T140000
LOCATION:225 North Gate Blvd\, colorado springs\, CO 80921 US
SUMMARY:USAFA Graduation Thunderbird Air Show
END:VEVENT
END:VCALENDAR
