BEGIN:VCALENDAR
VERSION:2.0
PRODID:-//wmmi.org//NONSGML kigkonsult.se iCalcreator 2.30.10//
CALSCALE:GREGORIAN
METHOD:PUBLISH
UID:1f764ecc-b7b7-4cc7-9d87-4c3e7148fd13
X-WR-CALDESC:Thank you to our Armed Forces!  FREE ADMISSION on Saturday\, M
 ay 21\, just show your ID.
X-WR-RELCALID:a68ad5ac1b9c553a4f4883312fcbe840
X-WR-TIMEZONE:America/Denver
BEGIN:VTIMEZONE
TZID:America/Denver
BEGIN:STANDARD
TZNAME:MST
DTSTART:20211107T020000
TZOFFSETFROM:-0600
TZOFFSETTO:-0700
RDATE:20221106T020000
RDATE:20231105T020000
END:STANDARD
BEGIN:DAYLIGHT
TZNAME:MDT
DTSTART:20220313T020000
TZOFFSETFROM:-0700
TZOFFSETTO:-0600
RDATE:20230312T020000
END:DAYLIGHT
END:VTIMEZONE
BEGIN:VEVENT
UID:33c19619-b7fc-46b2-9b18-1a93cd12b9c5
DTSTAMP:20260422T025107Z
DESCRIPTION:Thank you to our Armed Forces!  FREE ADMISSION on Saturday\, Ma
 y 21\, just show your ID.
DTSTART;TZID=America/Denver:20220521T000000
DTEND;TZID=America/Denver:20220521T235900
LOCATION:225 North Gate Blvd\, colorado springs\, CO 80921 US
SUMMARY:Armed Forces Day-FREE Admission for all Military
END:VEVENT
END:VCALENDAR
