BEGIN:VCALENDAR
VERSION:2.0
PRODID:-//wmmi.org//NONSGML kigkonsult.se iCalcreator 2.30.10//
CALSCALE:GREGORIAN
METHOD:PUBLISH
UID:389b1383-efb2-4b96-9078-fb3adb1dac55
X-WR-CALDESC:Thank you Police and First Responders.  Just show your ID for 
 free admission.
X-WR-RELCALID:e0337f3f63b29a10b142dfa17e7bf1a5
X-WR-TIMEZONE:America/Denver
BEGIN:VTIMEZONE
TZID:America/Denver
BEGIN:STANDARD
TZNAME:MST
DTSTART:20211107T020000
TZOFFSETFROM:-0600
TZOFFSETTO:-0700
RDATE:20221106T020000
RDATE:20231105T020000
END:STANDARD
BEGIN:DAYLIGHT
TZNAME:MDT
DTSTART:20220313T020000
TZOFFSETFROM:-0700
TZOFFSETTO:-0600
RDATE:20230312T020000
END:DAYLIGHT
END:VTIMEZONE
BEGIN:VEVENT
UID:73b4bd18-0d07-4d3b-8237-10b6cb3c38b7
DTSTAMP:20260422T025658Z
DESCRIPTION:Thank you Police and First Responders.  Just show your ID for f
 ree admission.
DTSTART;TZID=America/Denver:20220521T000000
DTEND;TZID=America/Denver:20220521T235900
LOCATION:225 North Gate Blvd\, colorado springs\, CO 80921 US
SUMMARY:Police/First Responder Appreciation Week- FREE ADMISSION for all fi
 rst responders
END:VEVENT
END:VCALENDAR
