BEGIN:VCALENDAR
VERSION:2.0
PRODID:-//wmmi.org//NONSGML kigkonsult.se iCalcreator 2.30.10//
CALSCALE:GREGORIAN
METHOD:PUBLISH
UID:ee160c21-2eb5-457a-8eeb-d9718d42460a
X-WR-CALDESC:Thank you Police and First Responders.  Just show your ID for 
 free admission.
X-WR-RELCALID:1ac14b30b28347b3ac103d8549409a98
X-WR-TIMEZONE:America/Denver
BEGIN:VTIMEZONE
TZID:America/Denver
BEGIN:STANDARD
TZNAME:MST
DTSTART:20211107T020000
TZOFFSETFROM:-0600
TZOFFSETTO:-0700
RDATE:20221106T020000
RDATE:20231105T020000
END:STANDARD
BEGIN:DAYLIGHT
TZNAME:MDT
DTSTART:20220313T020000
TZOFFSETFROM:-0700
TZOFFSETTO:-0600
RDATE:20230312T020000
END:DAYLIGHT
END:VTIMEZONE
BEGIN:VEVENT
UID:2a354d96-1cfd-4c69-b317-c54442595fdd
DTSTAMP:20260422T025856Z
DESCRIPTION:Thank you Police and First Responders.  Just show your ID for f
 ree admission.
DTSTART;TZID=America/Denver:20220520T000000
DTEND;TZID=America/Denver:20220520T235900
LOCATION:225 North Gate Blvd\, colorado springs\, CO 80921 US
SUMMARY:Police/First Responder Appreciation Week- FREE ADMISSION for all fi
 rst responders
END:VEVENT
END:VCALENDAR
