BEGIN:VCALENDAR
VERSION:2.0
PRODID:-//wmmi.org//NONSGML kigkonsult.se iCalcreator 2.30.10//
CALSCALE:GREGORIAN
METHOD:PUBLISH
UID:a78d2830-aeb8-494b-a346-e42d1b65d6fb
X-WR-CALDESC:Thank you Police and First Responders.  Just show your ID for 
 free admission.
X-WR-RELCALID:2a0f841b09457023a80f56ea956e24e9
X-WR-TIMEZONE:America/Denver
BEGIN:VTIMEZONE
TZID:America/Denver
BEGIN:STANDARD
TZNAME:MST
DTSTART:20211107T020000
TZOFFSETFROM:-0600
TZOFFSETTO:-0700
RDATE:20221106T020000
RDATE:20231105T020000
END:STANDARD
BEGIN:DAYLIGHT
TZNAME:MDT
DTSTART:20220313T020000
TZOFFSETFROM:-0700
TZOFFSETTO:-0600
RDATE:20230312T020000
END:DAYLIGHT
END:VTIMEZONE
BEGIN:VEVENT
UID:af1cbb98-d1bc-47e0-9001-c727775c7f50
DTSTAMP:20260422T025956Z
DESCRIPTION:Thank you Police and First Responders.  Just show your ID for f
 ree admission.
DTSTART;TZID=America/Denver:20220518T000000
DTEND;TZID=America/Denver:20220518T235900
LOCATION:225 North Gate Blvd\, colorado springs\, CO 80921 US
SUMMARY:Police/First Responder Appreciation Week- FREE ADMISSION for all fi
 rst responders
END:VEVENT
END:VCALENDAR
