BEGIN:VCALENDAR
VERSION:2.0
PRODID:-//wmmi.org//NONSGML kigkonsult.se iCalcreator 2.30.10//
CALSCALE:GREGORIAN
METHOD:PUBLISH
UID:df93f9f5-3c6c-4263-bdd0-ee43861ea733
X-WR-CALDESC:Thank you Police and First Responders.  Just show your ID for 
 free admission.
X-WR-RELCALID:74e7d222de98bc75595a57ac625bdc07
X-WR-TIMEZONE:America/Denver
BEGIN:VTIMEZONE
TZID:America/Denver
BEGIN:STANDARD
TZNAME:MST
DTSTART:20211107T020000
TZOFFSETFROM:-0600
TZOFFSETTO:-0700
RDATE:20221106T020000
RDATE:20231105T020000
END:STANDARD
BEGIN:DAYLIGHT
TZNAME:MDT
DTSTART:20220313T020000
TZOFFSETFROM:-0700
TZOFFSETTO:-0600
RDATE:20230312T020000
END:DAYLIGHT
END:VTIMEZONE
BEGIN:VEVENT
UID:eefc837a-8f8b-4fa6-a87e-7b2a5c19d95b
DTSTAMP:20260422T025844Z
DESCRIPTION:Thank you Police and First Responders.  Just show your ID for f
 ree admission.
DTSTART;TZID=America/Denver:20220517T000000
DTEND;TZID=America/Denver:20220517T235900
LOCATION:225 North Gate Blvd\, colorado springs\, CO 80921 US
SUMMARY:Police/First Responder Appreciation Week- FREE ADMISSION for all fi
 rst responders
END:VEVENT
END:VCALENDAR
