BEGIN:VCALENDAR
VERSION:2.0
PRODID:-//wmmi.org//NONSGML kigkonsult.se iCalcreator 2.30.10//
CALSCALE:GREGORIAN
METHOD:PUBLISH
UID:760cb5de-cf49-4493-92fb-323a3f5e23dd
X-WR-CALDESC:storytime begins at 9:30am inside the Reynolds Ranch Farm Hous
 e (the beautiful victorian style home at the entrance to the museum proper
 ty)  The PPLD Bookmobile will be in the parking area from 9:30-10:45 with 
 up to 5\,000 volumes for you to borrow!  \nfor more information\, contact 
 your PPLD branch. \n
X-WR-RELCALID:04fd4b8164159c5ccd2100afa82b1911
X-WR-TIMEZONE:America/Denver
BEGIN:VTIMEZONE
TZID:America/Denver
BEGIN:STANDARD
TZNAME:MST
DTSTART:20211107T020000
TZOFFSETFROM:-0600
TZOFFSETTO:-0700
RDATE:20221106T020000
RDATE:20231105T020000
END:STANDARD
BEGIN:DAYLIGHT
TZNAME:MDT
DTSTART:20220313T020000
TZOFFSETFROM:-0700
TZOFFSETTO:-0600
RDATE:20230312T020000
END:DAYLIGHT
END:VTIMEZONE
BEGIN:VEVENT
UID:cd2f911d-1cb2-43ce-885b-5f0d817ddb81
DTSTAMP:20260422T025100Z
DESCRIPTION:storytime begins at 9:30am inside the Reynolds Ranch Farm House
  (the beautiful victorian style home at the entrance to the museum propert
 y)  The PPLD Bookmobile will be in the parking area from 9:30-10:45 with u
 p to 5\,000 volumes for you to borrow!  \nfor more information\, contact y
 our PPLD branch. \n
DTSTART;TZID=America/Denver:20220516T093000
DTEND;TZID=America/Denver:20220516T104500
LOCATION:225 North Gate Blvd\, colorado springs\, CO 80921 US
SUMMARY:PPLD Storytime & Bookmobile
END:VEVENT
END:VCALENDAR
