BEGIN:VCALENDAR
VERSION:2.0
PRODID:-//wmmi.org//NONSGML kigkonsult.se iCalcreator 2.30.10//
CALSCALE:GREGORIAN
METHOD:PUBLISH
UID:0e02dec7-53c4-487f-b75e-7152ebb05327
X-WR-CALDESC:Thank you Police and First Responders.  Just show your ID for 
 free admission.
X-WR-RELCALID:1837ed1815fcbe04bc3022086f01e45d
X-WR-TIMEZONE:America/Denver
BEGIN:VTIMEZONE
TZID:America/Denver
BEGIN:STANDARD
TZNAME:MST
DTSTART:20211107T020000
TZOFFSETFROM:-0600
TZOFFSETTO:-0700
RDATE:20221106T020000
RDATE:20231105T020000
END:STANDARD
BEGIN:DAYLIGHT
TZNAME:MDT
DTSTART:20220313T020000
TZOFFSETFROM:-0700
TZOFFSETTO:-0600
RDATE:20230312T020000
END:DAYLIGHT
END:VTIMEZONE
BEGIN:VEVENT
UID:194a2040-e514-47b0-9466-6d20c8f7ef21
DTSTAMP:20260422T025743Z
DESCRIPTION:Thank you Police and First Responders.  Just show your ID for f
 ree admission.
DTSTART;TZID=America/Denver:20220516T000000
DTEND;TZID=America/Denver:20220516T235900
LOCATION:225 North Gate Blvd\, colorado springs\, CO 80921 US
SUMMARY:Police/First Responder Appreciation Week- FREE ADMISSION for all fi
 rst responders
END:VEVENT
END:VCALENDAR
